BEGIN:VCALENDAR
VERSION:2.0
PRODID:-//eventon.com NONSGML v1.0//EN
BEGIN:VEVENT
UID:69e95f6bf3f84
DTSTAMP:20260423T015315
DTSTART:20210713T093000Z
DTEND:20210713T110000Z
TZID:UTC
LOCATION:Webinar por Zoom Webinar per Zoom
SUMMARY:Eines de prevenció de les malalties vasculars en l'entorn laboral
DESCRIPTION: Eines de prevenció de les malalties vascular en l’entorn laboral Webinar de PRL &nbsp; Objectiu &nbsp; El concepte d’empresa saludable transcendeix al camp de la prevenció de riscos laborals i ens apropa a conceptes d’eficiència\,  de modernitat i de management global. Detectar els riscos\,  prevenir i donar eines als treballadors[..]
URL:https://www.foment.com/events/eines-de-prevencio-de-les-malalties-vasculars-en-lentorn-laboral/
END:VEVENT
END:VCALENDAR