BEGIN:VCALENDAR
VERSION:2.0
PRODID:-//eventon.com NONSGML v1.0//EN
BEGIN:VEVENT
UID:69e92ba96420c
DTSTAMP:20260422T221225
DTSTART:20221130T090000Z
DTEND:20221130T113000Z
TZID:Europe/Madrid
LOCATION:
SUMMARY:Viajes de empresa y movilidad. ¿Cómo garantizar la seguridad de los viajeros de negocio en el escenario postpandémico?
DESCRIPTION: [vc_row][vc_column][vc_column_text] Viajes de empresa y movilidad. ¿Cómo garantizar la seguridad de los viajeros de negocio en el escenario postpandémico? &nbsp; El año 2022 es el año de la recuperación de los viajes de negocio y las empresas han vuelto a retomar en gran medida la dinámica viajera previa a la[..]
URL:https://www.foment.com/events/viatges-dempresa-i-mobilitat-com-garantir-la-seguretat-dels-viatgers-de-negoci-en-lescenari-postpandemic/
END:VEVENT
END:VCALENDAR