BEGIN:VCALENDAR
VERSION:2.0
PRODID:-//eventon.com NONSGML v1.0//EN
BEGIN:VEVENT
UID:69e9476c8d358
DTSTAMP:20260423T001052
DTSTART:20221130T090000Z
DTEND:20221130T113000Z
TZID:Europe/Madrid
LOCATION:
SUMMARY:Viatges d’empresa i mobilitat. Com garantir la seguretat dels viatgers de negoci a l’escenari postpandèmic?
DESCRIPTION: [vc_row][vc_column][vc_column_text] Viatges d&#8217;empresa i mobilitat. Com garantir la seguretat dels viatgers de negoci a l&#8217;escenari postpandèmic? &nbsp; L&#8217;any 2022 és l&#8217;any de la recuperació dels viatges de negoci i les empreses han tornat a reprendre en gran mesura la dinàmica viatgera prèvia a la pandèmia. Així i tot\,  el context[..]
URL:https://www.foment.com/events/viatges-dempresa-i-mobilitat-com-garantir-la-seguretat-dels-viatgers-de-negoci-en-lescenari-postpandemic/
END:VEVENT
END:VCALENDAR