BEGIN:VCALENDAR
VERSION:2.0
PRODID:-//eventon.com NONSGML v1.0//EN
BEGIN:VEVENT
UID:69e944d2871d6
DTSTAMP:20260422T235946
DTSTART:20221123T100000Z
DTEND:20221123T123000Z
TZID:Europe/Madrid
LOCATION:Foment del Treball Sala Magna Via Laietana\,  32\,  08003 Barcelona
SUMMARY:Galardones a las mejores prácticas del sector de la PRL. Comprometidos con la salud.
DESCRIPTION: [vc_row][vc_column][vc_single_image image=&#8221;152459&#8243; img_size=&#8221;large&#8221; alignment=&#8221;center&#8221;][vc_column_text]Galardones a las mejores prácticas del sector de la PRL. Comprometidos con la salud. &nbsp; El trabajo y la salud están estrechamente relacionados\,  de ahí que el nuevo modelo de Empresa Saludable combina sistemas de salud integrales\,  realizando un trabajo multidisciplinar con la implicación de diversos profesionales[..]
URL:https://www.foment.com/es/events/galardones-a-las-mejores-practicas-del-sector-de-la-prl-comprometidos-con-la-salud/
END:VEVENT
END:VCALENDAR