BEGIN:VCALENDAR
VERSION:2.0
PRODID:-//eventon.com NONSGML v1.0//EN
BEGIN:VEVENT
UID:69e897ec107b8
DTSTAMP:20260422T114204
DTSTART:20221129T084500Z
DTEND:20221129T122000Z
TZID:Europe/Madrid
LOCATION:
SUMMARY:Evaluación de riesgos psicosociales en una realidad en constante cambio y evolución. Nuevos instrumentos de evaluación y buenas prácticas empresariales
DESCRIPTION: [vc_row][vc_column][vc_column_text] Evaluación de riesgos psicosociales en una realidad en constante cambio y evolución. Nuevos instrumentos de evaluación y buenas prácticas empresariales Los trastornos de salud mental afectan a más del 30% de la población\,  con un impacto psicológico derivado de un entorno cada vez más VUCA e hiperconectado en el[..]
URL:https://www.foment.com/events/avaluacio-de-riscos-psicosocials-en-una-realitat-en-constant-canvi-i-evolucio-nous-instruments-de-evaluacion-y-buenas-practicas-empresariales/
END:VEVENT
END:VCALENDAR