BEGIN:VCALENDAR
VERSION:2.0
PRODID:-//eventon.com NONSGML v1.0//EN
BEGIN:VEVENT
UID:69e8aeca0bd78
DTSTAMP:20260422T131938
DTSTART:20221129T084500Z
DTEND:20221129T122000Z
TZID:Europe/Madrid
LOCATION:
SUMMARY:Avaluació de riscos psicosocials en una realitat en constant canvi i evolució. Nous instruments d’avaluació i bones pràctiques empresarials
DESCRIPTION: [vc_row][vc_column][vc_column_text] Avaluació de riscos psicosocials en una realitat en constant canvi i evolució. Nous instruments d&#8217;avaluació i bones pràctiques empresarials Els trastorns de salut mental afecten a més del 30% de la població\,  amb un impacte psicològic derivat d&#8217;un entorn cada vegada mes VUCA i hiperconnectat en el món del[..]
URL:https://www.foment.com/events/avaluacio-de-riscos-psicosocials-en-una-realitat-en-constant-canvi-i-evolucio-nous-instruments-de-evaluacion-y-buenas-practicas-empresariales/
END:VEVENT
END:VCALENDAR