BEGIN:VCALENDAR
VERSION:2.0
PRODID:-//eventon.com NONSGML v1.0//EN
BEGIN:VEVENT
UID:69e884046b90e
DTSTAMP:20260422T101708
DTSTART:20221214T083000Z
DTEND:20221214T100000Z
TZID:Europe/Madrid
LOCATION:Foment del Treball Via Laietana\,  32-34\,  Principal\,  Barcelona
SUMMARY:Tres formas efectivas de entrada al mercado Alemán
DESCRIPTION: [vc_row][vc_column][vc_column_text]Alemania  es la mayor potencia económica de Europa y la cuarta mundial. Sin embargo\,  debido a la pandemia del COVID-19\,  el FMI estima que la economía del país se contrajo en 6% en 2020. Después de experimentar una recisión histórica en 2020 debido al estallido de la pandemia del COVID-19\, [..]
URL:https://www.foment.com/events/tres-formas-efectivas-de-entrada-al-mercado-aleman/
END:VEVENT
END:VCALENDAR