BEGIN:VCALENDAR
VERSION:2.0
PRODID:-//eventon.com NONSGML v1.0//EN
BEGIN:VEVENT
UID:69e765e10ddca
DTSTAMP:20260421T135617
DTSTART:20230712T080000Z
DTEND:20230712T103000Z
TZID:Europe/Madrid
LOCATION:
SUMMARY:Ergonomía y psicosociología con igualdad de género
DESCRIPTION: [vc_row][vc_column][vc_column_text] Ergonomía y psicosociología con igualdad de género Los nuevos cambios sociales y legales en relación a la perspectiva de género han ido introduciendo en la sociedad y en las empresas una serie de aspectos de mejora en su gestión. Las empresas están empezando a adaptarse a esa cuestión de[..]
URL:https://www.foment.com/events/ergonomia-y-psicosociologia-con-igualdad-de-genero/
END:VEVENT
END:VCALENDAR