BEGIN:VCALENDAR
VERSION:2.0
PRODID:-//eventon.com NONSGML v1.0//EN
BEGIN:VEVENT
UID:69e6344c54bc8
DTSTAMP:20260420T161228
DTSTART:20240917T080000Z
DTEND:20240917T115000Z
TZID:Europe/Madrid
LOCATION:
SUMMARY:Els plans d’igualtat i la diversitat generacional des de la perspectiva de la seguretat i la salut i el benestar
DESCRIPTION: [vc_row][vc_column][vc_column_text] &nbsp; Els plans d&#8217;igualtat i la diversitat generacional des de la perspectiva de la seguretat i la salut i el benestar La gestió de la diversitat implica un conjunt de mesures destinades a garantir la inclusió i la igualtat d&#8217;oportunitats de les persones en les empreses. Es tracta d&#8217;un[..]
URL:https://www.foment.com/events/187050/
END:VEVENT
END:VCALENDAR