BEGIN:VCALENDAR
VERSION:2.0
PRODID:-//eventon.com NONSGML v1.0//EN
BEGIN:VEVENT
UID:69ec1dc82619b
DTSTAMP:20260425T035000
DTSTART:20250918T163000Z
DTEND:20250918T180000Z
TZID:Europe/Madrid
LOCATION:Foment del Treball Via Laietana\,  32-34\,  Principal\,  Barcelona
SUMMARY:Ciclo Crecimiento Empresarial y Buenos Empleos – Un nuevo modelo energético como fuente de buenos empleos
DESCRIPTION: [vc_row][vc_column width=&#8221;1/1&#8243;][vc_btn title=&#8221;Inscripción&#8221; shape=&#8221;square&#8221; color=&#8221;danger&#8221; align=&#8221;center&#8221; button_block=&#8221;true&#8221; link=&#8221;url:https%3A%2F%2Fwww.foment.com%2Fes%2Finscripciones-eventos%2F%3Fidevento%3DEB45867C-678D-F011-B4CC-7CED8D2E9142&#8243;][vc_column_text]Desde el Instituto de Estudios Estratégicos\,  el think tank de Foment del Treball\,  pretendemos constituirnos como un espacio de encuentro\,  debate y elaboración de propuestas para una mayor generación de buenos empleos. El trabajo digno al alcance de todos es el primer elemento[..]
URL:https://www.foment.com/events/cicle-creixement-empresarial-i-bons-llocs-de-treball-un-nou-model-energetic-com-a-font-de-bones-ocupacions-del-carbo-a-lenergia-verda/
END:VEVENT
END:VCALENDAR