BEGIN:VCALENDAR
VERSION:2.0
PRODID:-//eventon.com NONSGML v1.0//EN
BEGIN:VEVENT
UID:69eb9647f39d1
DTSTAMP:20260424T181151
DTSTART:20260428T100000Z
DTEND:20260428T120000Z
TZID:Europe/Madrid
LOCATION:Foment del Treball Via Laietana\,  32-34\,  Principal\,  Barcelona
SUMMARY:Jornada | Presentación Geopolítica del Transporte Marítimo: Claves en las Rutas Globales y Prospección de Mercados.
DESCRIPTION: [vc_row][vc_column width=&#8221;1/1&#8243;][vc_btn title=&#8221;INSCRIPCIÓN GRATUITA&#8221; style=&#8221;3d&#8221; color=&#8221;danger&#8221; size=&#8221;lg&#8221; align=&#8221;center&#8221; button_block=&#8221;true&#8221; link=&#8221;url:https%3A%2F%2Fwww.foment.com%2Fes%2Finscripciones-eventos%2F%3Fidevento%3DD8B90845-412C-F111-88B4-000D3ADCCDB0&#8243;][vc_column_text] FOMENT DEL TREBALL\,  la ASOCIACIÓN DE TRANSITARIOS DE BARCELONA y CESCE se complacen en convocarles a la Jornada sobre PRESENTACIÓN GEOPOLÍTICA DEL TRANSPORTE MARÍTIMO: CLAVES EN LAS RUTAS GLOBALES Y PROSPECCIÓN DE MERCADOS. No cabe duda de que la geopolítica[..]
URL:https://www.foment.com/events/jornada-presentacion-geopolitica-del-transporte-maritimo-claves-en-las-rutas-globales-y-prospeccion-de-mercados/
END:VEVENT
END:VCALENDAR