BEGIN:VCALENDAR
VERSION:2.0
PRODID:-//eventon.com NONSGML v1.0//EN
BEGIN:VEVENT
UID:69e7fcbf87e8e
DTSTAMP:20260422T003959
DTSTART:20260505T090000Z
DTEND:20260505T103000Z
TZID:Europe/Madrid
LOCATION:Foment del Treball Via Laietana\,  32-34\,  Principal\,  Barcelona
SUMMARY:Sistema privado de salud: retos\,  sostenibilidad y futuro
DESCRIPTION: [vc_row][vc_column width=&#8221;1/1&#8243;][vc_column_text] En un momento de transformación del sistema sanitario\,  el papel del sector privado y la evolución del modelo MUFACE se convierten en elementos clave para entender el equilibrio entre cobertura\,  calidad y sostenibilidad. Esta jornada propone un espacio de reflexión y debate con expertos para analizar cómo estos[..]
URL:https://www.foment.com/events/sistema-privat-de-salut-reptes-sostenibilitat-i-futur/
END:VEVENT
END:VCALENDAR