BEGIN:VCALENDAR
VERSION:2.0
PRODID:-//eventon.com NONSGML v1.0//EN
BEGIN:VEVENT
UID:69e7c99719e80
DTSTAMP:20260421T210143
DTSTART:20260505T090000Z
DTEND:20260505T103000Z
TZID:Europe/Madrid
LOCATION:Foment del Treball Via Laietana\,  32-34\,  Principal\,  Barcelona
SUMMARY:Sistema privat de salut: reptes\,  sostenibilitat i futur
DESCRIPTION: [vc_row][vc_column width=&#8221;1/1&#8243;][vc_column_text] En un moment de transformació del sistema sanitari\,  el paper del sector privat i l’evolució del model MUFACE esdevenen elements clau per entendre l’equilibri entre cobertura\,  qualitat i sostenibilitat. Aquesta jornada proposa un espai de reflexió i debat amb experts per analitzar com aquests models impacten en el[..]
URL:https://www.foment.com/events/sistema-privat-de-salut-reptes-sostenibilitat-i-futur/
END:VEVENT
END:VCALENDAR