BEGIN:VCALENDAR
VERSION:2.0
PRODID:-//eventon.com NONSGML v1.0//EN
BEGIN:VEVENT
UID:69ebb76edced3
DTSTAMP:20260424T203318
DTSTART:20260512T080000Z
DTEND:20260512T103000Z
TZID:Europe/Madrid
LOCATION:
SUMMARY:Cuando la presencia no es exposición: claves para entender el riesgo cancerígeno en el entorno laboral
DESCRIPTION: [vc_row][vc_column][vc_column_text] &nbsp; Cuando la presencia no es exposición: claves para entender el riesgo cancerígeno en el entorno laboral &nbsp; La exposición laboral a sustancias cancerígenas\,  mutágenas y tóxicas para la reproducción (CMR) constituye\,  hoy en dia\,  una de las mayores amenazas silenciosas para la salud en los entornos laborales. Aunque[..]
URL:https://www.foment.com/events/cuando-la-presencia-no-es-exposicion-claves-para-entender-el-riesgo-cancerigeno-en-el-entorno-laboral/
END:VEVENT
END:VCALENDAR