BEGIN:VCALENDAR
VERSION:2.0
PRODID:-//eventon.com NONSGML v1.0//EN
BEGIN:VEVENT
UID:69eb882b3262d
DTSTAMP:20260424T171139
DTSTART:20260512T080000Z
DTEND:20260512T103000Z
TZID:Europe/Madrid
LOCATION:
SUMMARY:Quan la presència no és exposició: claus per entendre el risc cancerigen en l’entorn laboral
DESCRIPTION: [vc_row][vc_column][vc_column_text] &nbsp; Quan la presència no és exposició: claus per entendre el risc cancerigen en l&#8217;entorn laboral &nbsp; L&#8217;exposició a substàncies cancerígenes\,  mutàgenes i tòxiques per a la reproducció (CMR) constitueix\,  avui dia\,  una de les majors amenaces silencioses per a la salut en els entorns laborals. Encara que la[..]
URL:https://www.foment.com/events/cuando-la-presencia-no-es-exposicion-claves-para-entender-el-riesgo-cancerigeno-en-el-entorno-laboral/
END:VEVENT
END:VCALENDAR