BEGIN:VCALENDAR
VERSION:2.0
PRODID:-//eventon.com NONSGML v1.0//EN
BEGIN:VEVENT
UID:69eb92bc987d7
DTSTAMP:20260424T175644
DTSTART:20260514T071500Z
DTEND:20260514T090000Z
TZID:Europe/Madrid
LOCATION:Foment del Treball Via Laietana\,  32-34\,  Principal\,  Barcelona
SUMMARY:Jornada Empresarial | Paraguay: Puerta estratégica para invertir y expandirse en América Latina
DESCRIPTION: [vc_row][vc_column width=&#8221;1/1&#8243;][vc_btn title=&#8221;INSCRIPCIÓN GRATUITA&#8221; style=&#8221;3d&#8221; color=&#8221;danger&#8221; size=&#8221;lg&#8221; align=&#8221;center&#8221; button_block=&#8221;true&#8221; link=&#8221;url:https%3A%2F%2Fwww.foment.com%2Finscripcions-events%2F%3Fidevento%3DCB76A37B-303E-F111-88B4-000D3ADCC39A%23msdynmkt_trackingcontext%3D6680d0d6-31bf-49cf-bdcf-76c9c3490000&#8243;][vc_column_text] &nbsp; Foment del Treball\,  el Consulado General de Paraguay en España y la Red de Inversiones y Exportaciones de Paraguay (REDIEX) tienen el placer de invitarle a la Jornada Empresarial Paraguay: Puerta estratégica para invertir y expandirse en América Latina[..]
URL:https://www.foment.com/events/218729/
END:VEVENT
END:VCALENDAR