BEGIN:VCALENDAR
VERSION:2.0
PRODID:-//eventon.com NONSGML v1.0//EN
BEGIN:VEVENT
UID:69eba1cd552d4
DTSTAMP:20260424T190101
DTSTART:20260518T163000Z
DTEND:20260518T180000Z
TZID:Europe/Madrid
LOCATION:Foment del Treball Via Laietana\,  32-34\,  Principal\,  Barcelona
SUMMARY:Crecimiento Empresarial y Buenos Empleos: El sector salud como pilar de progreso – Sesión II
DESCRIPTION: [vc_row][vc_column width=&#8221;1/1&#8243;][vc_btn title=&#8221;Inscripción&#8221; shape=&#8221;square&#8221; color=&#8221;danger&#8221; align=&#8221;center&#8221; button_block=&#8221;true&#8221; link=&#8221;url:https%3A%2F%2Fwww.foment.com%2Fes%2Finscripciones-eventos%2F%3Fidevento%3DD9B22550-B23F-F111-88B4-7C1E5276AE0A&#8221;][vc_column_text]Desde el Instituto de Estudios Estratégicos\,  el think tank de Foment del Treball\,  pretendemos constituirnos como un espacio de encuentro\,  debate y elaboración de propuestas para una mayor generación de buenos empleos. El trabajo digno al alcance de todos es el primer elemento[..]
URL:https://www.foment.com/events/creixement-empresarial-i-bons-llocs-de-treball-el-sector-salut-com-a-pilar-de-progres-sessio-ii/
END:VEVENT
END:VCALENDAR