BEGIN:VCALENDAR
VERSION:2.0
PRODID:-//eventon.com NONSGML v1.0//EN
BEGIN:VEVENT
UID:69e4d6677f72b
DTSTAMP:20260419T151935
DTSTART:20180418T093000Z
DTEND:20180418T114500Z
TZID:UTC
LOCATION:Foment del Treball Via Laietana\,  32-34\,  Principal\,  Barcelona
SUMMARY:Propiedad industrial e intelectual 4.0.
DESCRIPTION: Herramientas de protección del conocimiento en entornos 4.0 Las empresas valoran sus secretos empresariales tanto como los derechos de propiedad intelectual y utilizan la confidencialidad como herramienta de gestión de la competitividad empresarial y de la innovación en investigación con el objetivo de proteger información muy relevante. Sin embargo\,  las[..]
URL:https://www.foment.com/events/43831/
END:VEVENT
END:VCALENDAR